BEGIN:VCALENDAR
VERSION:2.0
PRODID:-//Schwäbischer Albverein - ECPv6.15.20//NONSGML v1.0//EN
CALSCALE:GREGORIAN
METHOD:PUBLISH
X-ORIGINAL-URL:https://www.sav-bonlanden.de
X-WR-CALDESC:Veranstaltungen für Schwäbischer Albverein
REFRESH-INTERVAL;VALUE=DURATION:PT1H
X-Robots-Tag:noindex
X-PUBLISHED-TTL:PT1H
BEGIN:VTIMEZONE
TZID:Europe/Berlin
BEGIN:DAYLIGHT
TZOFFSETFROM:+0100
TZOFFSETTO:+0200
TZNAME:CEST
DTSTART:20250330T010000
END:DAYLIGHT
BEGIN:STANDARD
TZOFFSETFROM:+0200
TZOFFSETTO:+0100
TZNAME:CET
DTSTART:20251026T010000
END:STANDARD
BEGIN:DAYLIGHT
TZOFFSETFROM:+0100
TZOFFSETTO:+0200
TZNAME:CEST
DTSTART:20260329T010000
END:DAYLIGHT
BEGIN:STANDARD
TZOFFSETFROM:+0200
TZOFFSETTO:+0100
TZNAME:CET
DTSTART:20261025T010000
END:STANDARD
BEGIN:DAYLIGHT
TZOFFSETFROM:+0100
TZOFFSETTO:+0200
TZNAME:CEST
DTSTART:20270328T010000
END:DAYLIGHT
BEGIN:STANDARD
TZOFFSETFROM:+0200
TZOFFSETTO:+0100
TZNAME:CET
DTSTART:20271031T010000
END:STANDARD
END:VTIMEZONE
BEGIN:VEVENT
DTSTART;TZID=Europe/Berlin:20261105T140000
DTEND;TZID=Europe/Berlin:20261105T180000
DTSTAMP:20260422T160643
CREATED:20251226T173256Z
LAST-MODIFIED:20260125T073810Z
UID:2613-1793887200-1793901600@www.sav-bonlanden.de
SUMMARY:Senioren- und Freizeitgruppe – freier Keltertreff
DESCRIPTION:Organisation: Eberhard Bauer und Siegfried Heiß \n\n\n\nWir treffen uns in unserem Wanderheim Kelter zu einem zwanglosen\, gemütlichen Nachmittag mit vielen interessantenGesprächen. Wir freuen uns über neue Teilnehmer\, die sich gerne auch mit neuenWandervorschlägen und Ideen aktiv einbringen möchten. Kommen Sie einfach mal vorbei!
URL:https://www.sav-bonlanden.de/veranstaltung/senioren-und-freizeitgruppe-freier-keltertreff-18/
END:VEVENT
BEGIN:VEVENT
DTSTART;TZID=Europe/Berlin:20261121T140000
DTEND;TZID=Europe/Berlin:20261121T180000
DTSTAMP:20260422T160643
CREATED:20251226T173436Z
LAST-MODIFIED:20251226T173438Z
UID:2615-1795269600-1795284000@www.sav-bonlanden.de
SUMMARY:Halbtageswanderung „November Blues“
DESCRIPTION:Hochnebel hüllt die Landschaft in mattes Grau. Du denkst\, dass das kein gutes Wetter für eine kleine Wanderung ist?Ja klar\, die gemütliche Couch zuhause hat auch was. Aber wenn du bei diesem Wetter rausgehst und dich umschaust\, wird sich der November-Blues ganz schnell aus dem Staub machen – oder besser gesagt\, im Nebel verschwinden. \n\n\n\nWir wandern über Aich ins Schaichtal\, über den Betzenberg undNeuenhaus zurück über die Kelter mit kleiner Einkehr zum Ausgangspunkt. \n\n\n\nStartpunkt: Parkplatz Schützenhaus 14 UhrWegstrecke: 12 kmDauer: ca. 3 bis 4 StundenHöhenmeter: 200 m ↥/200 m ↧Schwierigkeitsgrad: leicht \n\n\n\nWanderführung: Dietmar WeinmannTel.: 0711/773195
URL:https://www.sav-bonlanden.de/veranstaltung/halbtageswanderung-november-blues/
END:VEVENT
BEGIN:VEVENT
DTSTART;TZID=Europe/Berlin:20261122T080000
DTEND;TZID=Europe/Berlin:20261122T170000
DTSTAMP:20260422T160643
CREATED:20260224T220009Z
LAST-MODIFIED:20260224T220010Z
UID:2857-1795334400-1795366800@www.sav-bonlanden.de
SUMMARY:Kelter geöffnet
DESCRIPTION:
URL:https://www.sav-bonlanden.de/veranstaltung/kelter-geoeffnet-19/
END:VEVENT
BEGIN:VEVENT
DTSTART;TZID=Europe/Berlin:20261128T190000
DTEND;TZID=Europe/Berlin:20261128T210000
DTSTAMP:20260422T160643
CREATED:20251228T155155Z
LAST-MODIFIED:20251228T155156Z
UID:2647-1795892400-1795899600@www.sav-bonlanden.de
SUMMARY:Hauptversammlung der OG Bonlanden
DESCRIPTION:Im Alfons-Fügel-Saal der Uhlberghalle.
URL:https://www.sav-bonlanden.de/veranstaltung/hauptversammlung-der-og-bonlanden-4/
END:VEVENT
END:VCALENDAR