BEGIN:VCALENDAR
VERSION:2.0
PRODID:-//Schwäbischer Albverein - ECPv6.15.20//NONSGML v1.0//EN
CALSCALE:GREGORIAN
METHOD:PUBLISH
X-ORIGINAL-URL:https://www.sav-bonlanden.de
X-WR-CALDESC:Veranstaltungen für Schwäbischer Albverein
REFRESH-INTERVAL;VALUE=DURATION:PT1H
X-Robots-Tag:noindex
X-PUBLISHED-TTL:PT1H
BEGIN:VTIMEZONE
TZID:Europe/Berlin
BEGIN:DAYLIGHT
TZOFFSETFROM:+0100
TZOFFSETTO:+0200
TZNAME:CEST
DTSTART:20250330T010000
END:DAYLIGHT
BEGIN:STANDARD
TZOFFSETFROM:+0200
TZOFFSETTO:+0100
TZNAME:CET
DTSTART:20251026T010000
END:STANDARD
BEGIN:DAYLIGHT
TZOFFSETFROM:+0100
TZOFFSETTO:+0200
TZNAME:CEST
DTSTART:20260329T010000
END:DAYLIGHT
BEGIN:STANDARD
TZOFFSETFROM:+0200
TZOFFSETTO:+0100
TZNAME:CET
DTSTART:20261025T010000
END:STANDARD
BEGIN:DAYLIGHT
TZOFFSETFROM:+0100
TZOFFSETTO:+0200
TZNAME:CEST
DTSTART:20270328T010000
END:DAYLIGHT
BEGIN:STANDARD
TZOFFSETFROM:+0200
TZOFFSETTO:+0100
TZNAME:CET
DTSTART:20271031T010000
END:STANDARD
END:VTIMEZONE
BEGIN:VEVENT
DTSTART;TZID=Europe/Berlin:20260903T140000
DTEND;TZID=Europe/Berlin:20260903T180000
DTSTAMP:20260422T044622
CREATED:20251226T170108Z
LAST-MODIFIED:20260125T073646Z
UID:2591-1788444000-1788458400@www.sav-bonlanden.de
SUMMARY:Senioren- und Freizeitgruppe – freier Keltertreff
DESCRIPTION:Organisation: Eberhard Bauer und Siegfried Heiß \n\n\n\nWir treffen uns in unserem Wanderheim Kelter zu einem zwanglosen\, gemütlichen Nachmittag mit vielen interessantenGesprächen. Wir freuen uns über neue Teilnehmer\, die sich gerne auch mit neuenWandervorschlägen und Ideen aktiv einbringen möchten. Kommen Sie einfach mal vorbei!
URL:https://www.sav-bonlanden.de/veranstaltung/senioren-und-freizeitgruppe-freier-keltertreff-16/
END:VEVENT
BEGIN:VEVENT
DTSTART;TZID=Europe/Berlin:20260905T090000
DTEND;TZID=Europe/Berlin:20260905T100000
DTSTAMP:20260422T044622
CREATED:20260415T065206Z
LAST-MODIFIED:20260415T065207Z
UID:2945-1788598800-1788602400@www.sav-bonlanden.de
SUMMARY:Yoga – Fit und entspannt ins Wochenende!
DESCRIPTION:Morgen-Yoga für alle\, mit Martina \n\n\n\nKosten: Spende erbeten \n\n\n\nBitte eine Yogamatte und eine Decke mitbringen! \n\n\n\nAnmeldung und Infos: yoga_mit_martina@e-mail.de \n\n\n\nAuf der schönen Wiese bei der Kelter
URL:https://www.sav-bonlanden.de/veranstaltung/yoga-fit-und-entspannt-ins-wochenende-19/
END:VEVENT
BEGIN:VEVENT
DTSTART;TZID=Europe/Berlin:20260912T180000
DTEND;TZID=Europe/Berlin:20260912T233000
DTSTAMP:20260422T044623
CREATED:20251226T170445Z
LAST-MODIFIED:20251226T170548Z
UID:2593-1789236000-1789255800@www.sav-bonlanden.de
SUMMARY:Filderstädter Mondscheinwanderung
DESCRIPTION:Aktuelles hierzu unter http://www.mondscheinwanderung.de \n\n\n\nMondscheinwanderung 2025
URL:https://www.sav-bonlanden.de/veranstaltung/filderstaedter-mondscheinwanderung-2/
END:VEVENT
BEGIN:VEVENT
DTSTART;TZID=Europe/Berlin:20260918T070000
DTEND;TZID=Europe/Berlin:20260920T180000
DTSTAMP:20260422T044623
CREATED:20251228T154815Z
LAST-MODIFIED:20251228T160049Z
UID:2645-1789714800-1789927200@www.sav-bonlanden.de
SUMMARY:Himmelsstürmer-Tour 2026 „Montafon/Rätikon“
DESCRIPTION:Im Jahr 2026 führt uns die Himmelsstürmer-Tour zur Lindauer Hütte im Montafon/Rätikon. Unser Basislager bietet einen traumhaften Blick auf die dolomitenähnlichen Gipfel der Drei Türme – das Wahrzeichen des Montafon. Die moderne Berghütte überzeugt mit hohem Komfort\, köstlichem Kaiserschmarrn und einer Sauna auf 1744 m Höhe. Für die Junioren ist das Matratzenlager reserviert\, alle anderen HimmelsstürmerInnen übernachten in Mehrbettzimmern. \n\n\n\nFreitag\, 18.09.2026Gemeinsame Busfahrt nach Schruns\, anschließend Zustieg zur Hütte. Die Golmbahn kann zur Verkürzung des Weges genutzt werden und das Gepäck wird zur Hütte transportiert (optional). \n\n\n\n\n\n\n\nSamstag\, 19.09.2026Ob gemütliche Almwanderung\, aussichtsreiche Bergtour oder alpiner Klettersteig – für jede Generation gibt es die passende Option. Den Tag lassen wir gemeinsam bei einem geselligen Hüttenabend ausklingen. \n\n\n\n\n\n\n\n\n\n\n\nSonntag\, 20.09.2026Abstieg ins Tal\, optional mit Golmbahn und Gepäcktransport. Zum Abschluss gemeinsames Mittagessen in Schruns und Rückfahrt nach Bonlanden. \n\n\n\nKondition\, Trittsicherheit und Schwindelfreiheit erforderlich! Klettersteignur für Geübte mit persönlicher und aktueller Sicherheitsausrüstung. \n\n\n\nWanderführung: Jörg RichterMail: Himmelsstürmer@sav-bonlanden.deAnmeldung nur über die Albvereins-Webseite
URL:https://www.sav-bonlanden.de/veranstaltung/himmelsstuermer-tour-2026-montafon-raetikon/
END:VEVENT
BEGIN:VEVENT
DTSTART;TZID=Europe/Berlin:20260925T140000
DTEND;TZID=Europe/Berlin:20260925T170000
DTSTAMP:20260422T044623
CREATED:20251226T171628Z
LAST-MODIFIED:20251226T171630Z
UID:2598-1790344800-1790355600@www.sav-bonlanden.de
SUMMARY:Pilzwanderung – Einführung in die Welt der heimischenPilze
DESCRIPTION:Gemeinsam mit erfahrenen Pilzsachverständigen sammeln wir selbst Pilze und erhalten dabei Hinweise zur Bestimmung von essbaren\, ungenießbaren und giftigen Arten. Außerdem bekommen wir Infos zum Naturschutz und zum verantwortungsvollen Umgang im Wald. Leider können wir keine Speisepilzgarantie geben\, aber wir möchten euch auf jeden Fall einen Einblick in die faszinierende Pilzwelt geben. \n\n\n\nDie Führung dauert je nach Witterung und Pilzvorkommen 2-3 Stunden.Familien und Gäste sind herzlich willkommen! \n\n\n\nTreffpunkt: Wanderheim KelterBeginn: 14.00 UhrGebühr: 12.- € pro Person/Kinder bis 13 Jahre: 6.- €Anmeldung nur in Verbindung mit Überweisung auf Konto Nr. DE75 6116 1696 0545 4380 12 – Volksbank Filder – Empfänger:Schwäbischer Albverein Betreff „Pilzwanderung + Namen“ \n\n\n\nAnmeldeschluss: 22.09.2026\, die Teilnehmerzahl ist begrenzt!Mitzubringen: Korb\, Messer\, waldgerechte KleidungKontakt: Dietmar WeinmannTel.: 0711/773195
URL:https://www.sav-bonlanden.de/veranstaltung/pilzwanderung-einfuehrung-in-die-welt-der-heimischenpilze/
END:VEVENT
BEGIN:VEVENT
DTSTART;TZID=Europe/Berlin:20260926T090000
DTEND;TZID=Europe/Berlin:20260926T140000
DTSTAMP:20260422T044623
CREATED:20251226T171857Z
LAST-MODIFIED:20251226T171859Z
UID:2600-1790413200-1790431200@www.sav-bonlanden.de
SUMMARY:Pflegeeinsatz auf dem Naturdenkmal Wacholderheide Haberschlai
DESCRIPTION:Mäharbeiten zur Weidepflege. Arbeitsgeräte sind vorhanden. Für Verpflegung ist gesorgt. Auch Nichtmitglieder/Gäste sind willkommen.Beginn 9.00 Uhr. Treffpunkt Garage Roggenstraße\, Stichweg zum Haberschlai.Einsatzende ca. 14.00 Uhr. Abschlussessen Kelter.
URL:https://www.sav-bonlanden.de/veranstaltung/pflegeeinsatz-auf-dem-naturdenkmal-wacholderheide-haberschlai-5/
END:VEVENT
BEGIN:VEVENT
DTSTART;TZID=Europe/Berlin:20260927T080000
DTEND;TZID=Europe/Berlin:20260927T190000
DTSTAMP:20260422T044623
CREATED:20260224T215141Z
LAST-MODIFIED:20260224T215142Z
UID:2853-1790496000-1790535600@www.sav-bonlanden.de
SUMMARY:Kelter geöffnet
DESCRIPTION:
URL:https://www.sav-bonlanden.de/veranstaltung/kelter-geoeffnet-23/
END:VEVENT
END:VCALENDAR