BEGIN:VCALENDAR
VERSION:2.0
PRODID:-//Schwäbischer Albverein - ECPv6.15.20//NONSGML v1.0//EN
CALSCALE:GREGORIAN
METHOD:PUBLISH
X-ORIGINAL-URL:https://www.sav-bonlanden.de
X-WR-CALDESC:Veranstaltungen für Schwäbischer Albverein
REFRESH-INTERVAL;VALUE=DURATION:PT1H
X-Robots-Tag:noindex
X-PUBLISHED-TTL:PT1H
BEGIN:VTIMEZONE
TZID:Europe/Berlin
BEGIN:DAYLIGHT
TZOFFSETFROM:+0100
TZOFFSETTO:+0200
TZNAME:CEST
DTSTART:20250330T010000
END:DAYLIGHT
BEGIN:STANDARD
TZOFFSETFROM:+0200
TZOFFSETTO:+0100
TZNAME:CET
DTSTART:20251026T010000
END:STANDARD
BEGIN:DAYLIGHT
TZOFFSETFROM:+0100
TZOFFSETTO:+0200
TZNAME:CEST
DTSTART:20260329T010000
END:DAYLIGHT
BEGIN:STANDARD
TZOFFSETFROM:+0200
TZOFFSETTO:+0100
TZNAME:CET
DTSTART:20261025T010000
END:STANDARD
BEGIN:DAYLIGHT
TZOFFSETFROM:+0100
TZOFFSETTO:+0200
TZNAME:CEST
DTSTART:20270328T010000
END:DAYLIGHT
BEGIN:STANDARD
TZOFFSETFROM:+0200
TZOFFSETTO:+0100
TZNAME:CET
DTSTART:20271031T010000
END:STANDARD
END:VTIMEZONE
BEGIN:VEVENT
DTSTART;TZID=Europe/Berlin:20260702T140000
DTEND;TZID=Europe/Berlin:20260702T180000
DTSTAMP:20260421T194814
CREATED:20251226T164357Z
LAST-MODIFIED:20260125T073446Z
UID:2579-1783000800-1783015200@www.sav-bonlanden.de
SUMMARY:Senioren- und Freizeitgruppe – freier Keltertreff
DESCRIPTION:Organisation: Eberhard Bauer und Siegfried Heiß \n\n\n\nWir treffen uns in unserem Wanderheim Kelter zu einem zwanglosen\, gemütlichen Nachmittag mit vielen interessantenGesprächen. Wir freuen uns über neue Teilnehmer\, die sich gerne auch mit neuen Wandervorschlägen und Ideen aktiv einbringen möchten. Kommen Sie einfach mal vorbei!
URL:https://www.sav-bonlanden.de/veranstaltung/senioren-und-freizeitgruppe-freier-keltertreff-14/
END:VEVENT
BEGIN:VEVENT
DTSTART;TZID=Europe/Berlin:20260710T173000
DTEND;TZID=Europe/Berlin:20260710T190000
DTSTAMP:20260421T194814
CREATED:20251224T110424Z
LAST-MODIFIED:20251224T110426Z
UID:2508-1783704600-1783710000@www.sav-bonlanden.de
SUMMARY:Kindergruppe
DESCRIPTION:
URL:https://www.sav-bonlanden.de/veranstaltung/kindergruppe-30/
END:VEVENT
BEGIN:VEVENT
DTSTART;TZID=Europe/Berlin:20260712T110000
DTEND;TZID=Europe/Berlin:20260712T170000
DTSTAMP:20260421T194814
CREATED:20251226T165043Z
LAST-MODIFIED:20251226T165045Z
UID:2582-1783854000-1783875600@www.sav-bonlanden.de
SUMMARY:Sommerfest
DESCRIPTION:Die Albvereins-Familie\, lädt euch herzlich zu unserem diesjährigen Sommerfest in die Kelter ein! Freut euch auf einen schönen Tag voller Spaß\, guter Stimmung und vieler Attraktionen für Groß und Klein Für das leibliche Wohl und Unterhaltung ist selbstverständlich gesorgt. \n\n\n\nBitte merkt euch den Termin schon einmal vor.Eine persönliche Einladung mit allen weiteren Details folgt. \n\n\n\nJubiläumsfest 2025\n\n\n\nJubiläumsfest 2025
URL:https://www.sav-bonlanden.de/veranstaltung/sommerfest/
END:VEVENT
BEGIN:VEVENT
DTSTART;TZID=Europe/Berlin:20260718T090000
DTEND;TZID=Europe/Berlin:20260718T100000
DTSTAMP:20260421T194814
CREATED:20260415T064843Z
LAST-MODIFIED:20260415T064844Z
UID:2939-1784365200-1784368800@www.sav-bonlanden.de
SUMMARY:Yoga – Fit und entspannt ins Wochenende!
DESCRIPTION:Kosten: Spende erbeten \n\n\n\nBitte eine Yogamatte und eine Decke mitbringen! \n\n\n\nAnmeldung und Infos: yoga_mit_martina@e-mail.de \n\n\n\nAuf der schönen Wiese bei der Kelter
URL:https://www.sav-bonlanden.de/veranstaltung/yoga-fit-und-entspannt-ins-wochenende-16/
END:VEVENT
BEGIN:VEVENT
DTSTART;TZID=Europe/Berlin:20260725T090000
DTEND;TZID=Europe/Berlin:20260725T140000
DTSTAMP:20260421T194814
CREATED:20251226T165327Z
LAST-MODIFIED:20251226T165328Z
UID:2584-1784970000-1784988000@www.sav-bonlanden.de
SUMMARY:Pflegeeinsatz auf dem Naturdenkmal Wacholderheide Haberschlai
DESCRIPTION:Sommermahd auf einer Teilfläche. Arbeitsgeräte sind vorhanden. Für Verpflegung ist gesorgt. Auch Nichtmitglieder/Gäste sind willkommen. \n\n\n\nBeginn 9.00 Uhr. Treffpunkt Garage Roggenstraße\, Stichweg zum Haberschlai. Einsatzende ca. 14.00 Uhr. Abschlussessen Kelter.
URL:https://www.sav-bonlanden.de/veranstaltung/pflegeeinsatz-auf-dem-naturdenkmal-wacholderheide-haberschlai-3/
END:VEVENT
END:VCALENDAR