BEGIN:VCALENDAR
VERSION:2.0
PRODID:-//Schwäbischer Albverein - ECPv6.15.20//NONSGML v1.0//EN
CALSCALE:GREGORIAN
METHOD:PUBLISH
X-WR-CALNAME:Schwäbischer Albverein
X-ORIGINAL-URL:https://www.sav-bonlanden.de
X-WR-CALDESC:Veranstaltungen für Schwäbischer Albverein
REFRESH-INTERVAL;VALUE=DURATION:PT1H
X-Robots-Tag:noindex
X-PUBLISHED-TTL:PT1H
BEGIN:VTIMEZONE
TZID:Europe/Berlin
BEGIN:DAYLIGHT
TZOFFSETFROM:+0100
TZOFFSETTO:+0200
TZNAME:CEST
DTSTART:20250330T010000
END:DAYLIGHT
BEGIN:STANDARD
TZOFFSETFROM:+0200
TZOFFSETTO:+0100
TZNAME:CET
DTSTART:20251026T010000
END:STANDARD
BEGIN:DAYLIGHT
TZOFFSETFROM:+0100
TZOFFSETTO:+0200
TZNAME:CEST
DTSTART:20260329T010000
END:DAYLIGHT
BEGIN:STANDARD
TZOFFSETFROM:+0200
TZOFFSETTO:+0100
TZNAME:CET
DTSTART:20261025T010000
END:STANDARD
BEGIN:DAYLIGHT
TZOFFSETFROM:+0100
TZOFFSETTO:+0200
TZNAME:CEST
DTSTART:20270328T010000
END:DAYLIGHT
BEGIN:STANDARD
TZOFFSETFROM:+0200
TZOFFSETTO:+0100
TZNAME:CET
DTSTART:20271031T010000
END:STANDARD
END:VTIMEZONE
BEGIN:VEVENT
DTSTART;TZID=Europe/Berlin:20260106T100000
DTEND;TZID=Europe/Berlin:20260106T170000
DTSTAMP:20260421T194529
CREATED:20251129T134818Z
LAST-MODIFIED:20251129T134819Z
UID:2289-1767693600-1767718800@www.sav-bonlanden.de
SUMMARY:Kelter geöffnet (Heilige Drei Könige)
DESCRIPTION:
URL:https://www.sav-bonlanden.de/veranstaltung/kelter-geoeffnet-heilige-drei-koenige/
LOCATION:Wanderheim – Kelter\, Unterdorfstraße 100\, Filderstadt\, 70794\, Deutschland
END:VEVENT
BEGIN:VEVENT
DTSTART;TZID=Europe/Berlin:20260109T173000
DTEND;TZID=Europe/Berlin:20260109T190000
DTSTAMP:20260421T194529
CREATED:20251224T105449Z
LAST-MODIFIED:20251224T105455Z
UID:2488-1767979800-1767985200@www.sav-bonlanden.de
SUMMARY:Kindergruppe
DESCRIPTION:
URL:https://www.sav-bonlanden.de/veranstaltung/kindergruppe-18/
END:VEVENT
BEGIN:VEVENT
DTSTART;TZID=Europe/Berlin:20260110T090000
DTEND;TZID=Europe/Berlin:20260110T140000
DTSTAMP:20260421T194529
CREATED:20251217T080328Z
LAST-MODIFIED:20251217T080628Z
UID:2426-1768035600-1768053600@www.sav-bonlanden.de
SUMMARY:Pflegeeinsatz auf dem Naturdenkmal Hacholderheide Haberschlai.
DESCRIPTION:Gehölzarbeiten\, u.a. Hecken Auf-den-Stock-setzen/ Anlegen einer Benjeshecke. Arbeitsgeräte sind vorhanden. Für Verpflegung ist gesorgt.  \n\n\n\nAuch Nichtmitglieder/Gäste sind willkommen. Beginn 9.00Uhr. Treffpunkt Garage Roggenstraße\, Stichweg zum Haberschlai.Einsatzende ca. 14.00 Uhr. Abschlussessen Kelter.
URL:https://www.sav-bonlanden.de/veranstaltung/2426/
END:VEVENT
BEGIN:VEVENT
DTSTART;TZID=Europe/Berlin:20260116T200000
DTEND;TZID=Europe/Berlin:20260116T210000
DTSTAMP:20260421T194529
CREATED:20251224T134748Z
LAST-MODIFIED:20251224T134750Z
UID:2525-1768593600-1768597200@www.sav-bonlanden.de
SUMMARY:Singgruppe
DESCRIPTION:
URL:https://www.sav-bonlanden.de/veranstaltung/singgruppe-9/
END:VEVENT
BEGIN:VEVENT
DTSTART;TZID=Europe/Berlin:20260117T170000
DTEND;TZID=Europe/Berlin:20260117T190000
DTSTAMP:20260421T194529
CREATED:20251229T184840Z
LAST-MODIFIED:20251229T184841Z
UID:2678-1768669200-1768676400@www.sav-bonlanden.de
SUMMARY:Fackelwanderung (Familiengruppe)
DESCRIPTION:Die Familiengruppe beginnt das Jahr 2026 mit der traditionellen Fackelwanderung am 17. Januar 2026 von 17 – 19 Uhr. Start und Abschluss in der Kelter. Fackeln werden für Vereinsmitglieder gestellt – Nichtmitglieder 4.- € \n\n\n\nAnmeldung bei Dietmar Weinmann (d.weinmann@sav-bonlanden.de)
URL:https://www.sav-bonlanden.de/veranstaltung/fackelwanderung-familiengruppe/
END:VEVENT
BEGIN:VEVENT
DTSTART;TZID=Europe/Berlin:20260123T173000
DTEND;TZID=Europe/Berlin:20260123T190000
DTSTAMP:20260421T194529
CREATED:20251224T105530Z
LAST-MODIFIED:20251224T105531Z
UID:2490-1769189400-1769194800@www.sav-bonlanden.de
SUMMARY:Kindergruppe
DESCRIPTION:
URL:https://www.sav-bonlanden.de/veranstaltung/kindergruppe-21/
END:VEVENT
BEGIN:VEVENT
DTSTART;TZID=Europe/Berlin:20260125T100000
DTEND;TZID=Europe/Berlin:20260125T150000
DTSTAMP:20260421T194529
CREATED:20251217T080851Z
LAST-MODIFIED:20260115T174345Z
UID:2429-1769335200-1769353200@www.sav-bonlanden.de
SUMMARY:Halbtages-Wanderung „Rund um Bonlanden“
DESCRIPTION:Mit einer familienfreundlichen Wanderung mit zünftigem „Angrillen“ an einer Feuerstelle wollen wir das Wanderjahr 2026 beginnen.Grillgut und Getränke bringt jeder selber mit. \n\n\n\nTreffpunkt: Parkplatz Uhlberghalle \n\n\n\nWanderführer: Werner SchneiderTel.: 0711/772356
URL:https://www.sav-bonlanden.de/veranstaltung/halbtages-wanderung-rund-um-bonlanden-2/
END:VEVENT
BEGIN:VEVENT
DTSTART;TZID=Europe/Berlin:20260130T190000
DTEND;TZID=Europe/Berlin:20260130T210000
DTSTAMP:20260421T194529
CREATED:20251224T134826Z
LAST-MODIFIED:20251224T134828Z
UID:2527-1769799600-1769806800@www.sav-bonlanden.de
SUMMARY:Singgruppe
DESCRIPTION:
URL:https://www.sav-bonlanden.de/veranstaltung/singgruppe-10/
END:VEVENT
END:VCALENDAR