BEGIN:VCALENDAR
VERSION:2.0
PRODID:-//Schwäbischer Albverein - ECPv6.15.20//NONSGML v1.0//EN
CALSCALE:GREGORIAN
METHOD:PUBLISH
X-WR-CALNAME:Schwäbischer Albverein
X-ORIGINAL-URL:https://www.sav-bonlanden.de
X-WR-CALDESC:Veranstaltungen für Schwäbischer Albverein
REFRESH-INTERVAL;VALUE=DURATION:PT1H
X-Robots-Tag:noindex
X-PUBLISHED-TTL:PT1H
BEGIN:VTIMEZONE
TZID:Europe/Berlin
BEGIN:DAYLIGHT
TZOFFSETFROM:+0100
TZOFFSETTO:+0200
TZNAME:CEST
DTSTART:20240331T010000
END:DAYLIGHT
BEGIN:STANDARD
TZOFFSETFROM:+0200
TZOFFSETTO:+0100
TZNAME:CET
DTSTART:20241027T010000
END:STANDARD
BEGIN:DAYLIGHT
TZOFFSETFROM:+0100
TZOFFSETTO:+0200
TZNAME:CEST
DTSTART:20250330T010000
END:DAYLIGHT
BEGIN:STANDARD
TZOFFSETFROM:+0200
TZOFFSETTO:+0100
TZNAME:CET
DTSTART:20251026T010000
END:STANDARD
BEGIN:DAYLIGHT
TZOFFSETFROM:+0100
TZOFFSETTO:+0200
TZNAME:CEST
DTSTART:20260329T010000
END:DAYLIGHT
BEGIN:STANDARD
TZOFFSETFROM:+0200
TZOFFSETTO:+0100
TZNAME:CET
DTSTART:20261025T010000
END:STANDARD
END:VTIMEZONE
BEGIN:VEVENT
DTSTART;TZID=Europe/Berlin:20251204T150000
DTEND;TZID=Europe/Berlin:20251204T180000
DTSTAMP:20260421T211549
CREATED:20241229T114722Z
LAST-MODIFIED:20241229T114722Z
UID:963-1764860400-1764871200@www.sav-bonlanden.de
SUMMARY:Senioren- und Freizeitgruppe – Keltertreff Weihnachtsfeier
DESCRIPTION:Senioren- und Freizeitgruppe – Keltertreff Weihnachtsfeier
URL:https://www.sav-bonlanden.de/veranstaltung/senioren-und-freizeitgruppe-keltertreff-weihnachtsfeier/
END:VEVENT
BEGIN:VEVENT
DTSTART;TZID=Europe/Berlin:20251205T190000
DTEND;TZID=Europe/Berlin:20251205T210000
DTSTAMP:20260421T211549
CREATED:20250112T154902Z
LAST-MODIFIED:20251005T190243Z
UID:1163-1764961200-1764968400@www.sav-bonlanden.de
SUMMARY:Singgruppe
DESCRIPTION:
URL:https://www.sav-bonlanden.de/veranstaltung/kindergruppe-17/
END:VEVENT
BEGIN:VEVENT
DTSTART;TZID=Europe/Berlin:20251212T173000
DTEND;TZID=Europe/Berlin:20251212T190000
DTSTAMP:20260421T211549
CREATED:20250112T115235Z
LAST-MODIFIED:20251005T191321Z
UID:1126-1765560600-1765566000@www.sav-bonlanden.de
SUMMARY:Kindergruppe
DESCRIPTION:einfach vorbeikommen zu Spiel und Spaß\, wir freuen uns auf euch.
URL:https://www.sav-bonlanden.de/veranstaltung/kindergruppe-2/
END:VEVENT
BEGIN:VEVENT
DTSTART;TZID=Europe/Berlin:20251220T140000
DTEND;TZID=Europe/Berlin:20251220T200000
DTSTAMP:20260421T211549
CREATED:20241229T115053Z
LAST-MODIFIED:20251129T134212Z
UID:965-1766239200-1766260800@www.sav-bonlanden.de
SUMMARY:Winterdörfle und Wintersonnwende!
DESCRIPTION:Beginn am 20.12.2025 ab 14 Uhr \n\n\n\n🎄 Winterdörfle – Weihnachtszauber & Wintersonnenwende 🎅🔥Am Samstag und Sonntag\, den 20. + 21. Dezember\, laden wir euch herzlich zu unserem stimmungsvollen Winterdörle ein!An beiden Tagen verwandelt sich unser Gelände in ein kleines\, gemütliches Winterdorf voller Lichterglanz\, Tannenduft und festlicher Atmosphäre.🌟 Was euch erwartet:✨ An beiden Tagen: Liebevoll selbst gebastelte Weihnachtsdekorationen – ideal zum Stöbern\, Staunen und Verschenken. Der Erlös geht in unsere Vereinsarbeit vom Albverein.🎅 Am Samstag um 15:00 Uhr kommt der Nikolaus und bringt kleine Überraschungen für unsere jüngsten Gäste und es gibt eine Tombola. Der Erlös geht an den Förderverein für krebskranke Kinder e.V. in Tübingen. \n\n\n\n🔥 Am Samstag Abend entzünden wir nach Einbruch der Dunkelheit gemeinsam das Wintersonnenwendfeuer – ein wärmendes Symbol für Licht\, Gemeinschaft und den Beginn der helleren Tage.Für das leibliche Wohl ist natürlich auch gesorgt: Genießt heißen Punsch\, Glühwein\, duftende Waffeln und herzhafte Leckereien in geselliger Runde.Kommt vorbei\, bringt Familie und Freunde mit und erlebt einen gemütlichen Nachmittag und Abend voller Vorfreude auf Weihnachten!Wir freuen uns auf euch beim Winterdörfle 2025 ❄️🎶
URL:https://www.sav-bonlanden.de/veranstaltung/winterdorf-und-wintersonnwende/
END:VEVENT
BEGIN:VEVENT
DTSTART;TZID=Europe/Berlin:20251220T160000
DTEND;TZID=Europe/Berlin:20251220T170000
DTSTAMP:20260421T211549
CREATED:20251129T134048Z
LAST-MODIFIED:20251129T134128Z
UID:2284-1766246400-1766250000@www.sav-bonlanden.de
SUMMARY:Jahresabschluss-wanderung zum Winterdörfle an der Kelter
DESCRIPTION:Die Wanderführer Peter und Dieter Vogel laden ein zur Abschlusswanderung des Wanderjahres 2025 am Vorabend des Vierten Advents durch die vorweihnachtliche Winterlandschaft. Auch für Familien und Senioren geeignet. \n\n\n\nTreffpunkt Parkplatz Uhlberghalle Bonlanden\, Mahlestraße. Die leichte Wanderung beginnt um 16.00 Uhr und führt uns durch den Museumsobstgarten\, über Schlesien- und Roggenstraße zum Naturdenkmal Wacholderheide Haberschlai. Durch das Waldstück Schneiderspitz\, über den Mahdenwiesenweg\, vorbei am Schützenhaus\, erreichen wir nach rund einer Stunde Gehzeit das Vereinsheim Kelter. \n\n\n\nWir empfehlen festes Schuhwerk\, ggf. Wanderstöcke und der Jahreszeit sowie der Witterung angepasste Kleidung. \n\n\n\nAnkunft Vereinsheim Kelter ca. 17:00 Uhr. Dort erwartet sie ein weihnachtlich geschmücktes kleines Winterdörfle mit Punsch\, Glühwein\, Gegrilltem und vielem mehr. Lassen sie sich überraschen. Das Feuer in der Grillstelle deutet auf die Wintersonnenwende am 21. Dezember hin. Die Kelter ist ebenfalls geöffnet. \n\n\n\nAnmeldung bei Peter\, Tel. 0172-5287628\, E-Mail: peter.vogel19@freenet.de oder bei Dieter\, Tel. 0176-55564103\, E-Mail:  dieter1.vogel@kabelbw.de \n\n\n\nDer Rückweg erfolgt eigenständig bis Parkplatz Uhlberghalle in ca. 15 Minuten zu Fuß\, oder per PKW/Fahrgemeinschaften.
URL:https://www.sav-bonlanden.de/veranstaltung/jahresabschlusswanderung-zum-winterdoerfle-an-der-kelter/
END:VEVENT
BEGIN:VEVENT
DTSTART;TZID=Europe/Berlin:20251221T110000
DTEND;TZID=Europe/Berlin:20251221T170000
DTSTAMP:20260421T211549
CREATED:20251129T122027Z
LAST-MODIFIED:20251129T122048Z
UID:2279-1766314800-1766336400@www.sav-bonlanden.de
SUMMARY:Winterdörfle an der Kelter
DESCRIPTION:Beginn am 21.12.2025 ab 11 Uhr \n\n\n\n🎄 Winterdörfle – Weihnachtszauber & Wintersonnenwende 🎅🔥Am Samstag und Sonntag\, den 20. + 21. Dezember\, laden wir euch herzlich zu unserem stimmungsvollen Winterdörle ein!An beiden Tagen verwandelt sich unser Gelände in ein kleines\, gemütliches Winterdorf voller Lichterglanz\, Tannenduft und festlicher Atmosphäre.🌟 Was euch erwartet:✨ An beiden Tagen: Liebevoll selbst gebastelte Weihnachtsdekorationen – ideal zum Stöbern\, Staunen und Verschenken. Der Erlös geht in unsere Vereinsarbeit vom Albverein.🎅 Am Samstag um 15:00 Uhr kommt der Nikolaus und bringt kleine Überraschungen für unsere jüngsten Gäste und es gibt eine Tombola. Der Erlös geht an den Förderverein für krebskranke Kinder e.V. in Tübingen. \n\n\n\n🔥 Am Samstag Abend entzünden wir nach Einbruch der Dunkelheit gemeinsam das Wintersonnenwendfeuer – ein wärmendes Symbol für Licht\, Gemeinschaft und den Beginn der helleren Tage.Für das leibliche Wohl ist natürlich auch gesorgt: Genießt heißen Punsch\, Glühwein\, duftende Waffeln und herzhafte Leckereien in geselliger Runde.Kommt vorbei\, bringt Familie und Freunde mit und erlebt einen gemütlichen Nachmittag und Abend voller Vorfreude auf Weihnachten!Wir freuen uns auf euch beim Winterdörfle 2025 ❄️🎶
URL:https://www.sav-bonlanden.de/veranstaltung/2279/
END:VEVENT
BEGIN:VEVENT
DTSTART;TZID=Europe/Berlin:20251224T180000
DTEND;TZID=Europe/Berlin:20251224T233000
DTSTAMP:20260421T211549
CREATED:20251013T085651Z
LAST-MODIFIED:20251013T085652Z
UID:2130-1766599200-1766619000@www.sav-bonlanden.de
SUMMARY:HEILIGABEND IN DER KELTER
DESCRIPTION:Es ist wieder soweit:Wir öffnen die weihnachtlich geschmückte Kelter an Heiligabend ab 18 Uhrund freuen uns über jeden\, der mit uns Weihnachten feiern möchte.Bei wohliger Wärme am Kachelofen gibt es 2 herzhafte Gerichte(eines davon vegetarisch)\, Geschichten und weihnachtliche Musikzum Mitsingen. \n\n\n\n\nWir freuen uns auf euch! \n\n\n\nAm 24. Dezember ab 18 Uhr \n\n\n\n\nWeitere Informationen:Schwäbischer Albverein e.V. Ortsgruppe BonlandenKatrin Illgen & Stefan Kull – Telefon: 07127-9547788 Um besser planen zu können bitten wir um eineAnmeldung:  \n\n\n\n                    Anmeldung HEILIG ABEND in der Kelter 2025VornameNachnameAnzahl PersonenE-MailEinverständniserklärung: Ich bin damit einverstanden\, dass diese Website meine eingereichten Informationen und Informationen zu Browser und IP Adresse speichert\, damit meine Anfrage bearbeitet werden kann. Im Falle von Missbrauch bin ich einverstanden\, dass die Daten zur Verfolgung desselben verwendet werden dürfen. Ich/wir bin/sind einverstanden\, dass Bilder\, die während dieser Veranstaltung von mir/uns gemacht werden\, auf der Homepage des Schwäbischen Albvereins Ortsgruppe Bonlanden veröffentlicht werden.Formular absenden
URL:https://www.sav-bonlanden.de/veranstaltung/heiligabend-in-der-kelter-2/
ATTACH;FMTTYPE=image/jpeg:https://www.sav-bonlanden.de/wp-content/uploads/2025/10/Einladung_Heiligabend_2.jpg
END:VEVENT
BEGIN:VEVENT
DTSTART;TZID=Europe/Berlin:20251226T190000
DTEND;TZID=Europe/Berlin:20251226T210000
DTSTAMP:20260421T211549
CREATED:20251226T173601Z
LAST-MODIFIED:20251226T173603Z
UID:2617-1766775600-1766782800@www.sav-bonlanden.de
SUMMARY:Hauptversammlung der OG Bonlanden
DESCRIPTION:Im Alfons-Fügel-Saal der Uhlberghalle. Beginn 19.00 Uhr
URL:https://www.sav-bonlanden.de/veranstaltung/hauptversammlung-der-og-bonlanden-3/
END:VEVENT
END:VCALENDAR