BEGIN:VCALENDAR
VERSION:2.0
PRODID:-//Schwäbischer Albverein - ECPv6.15.20//NONSGML v1.0//EN
CALSCALE:GREGORIAN
METHOD:PUBLISH
X-WR-CALNAME:Schwäbischer Albverein
X-ORIGINAL-URL:https://www.sav-bonlanden.de
X-WR-CALDESC:Veranstaltungen für Schwäbischer Albverein
REFRESH-INTERVAL;VALUE=DURATION:PT1H
X-Robots-Tag:noindex
X-PUBLISHED-TTL:PT1H
BEGIN:VTIMEZONE
TZID:Europe/Berlin
BEGIN:DAYLIGHT
TZOFFSETFROM:+0100
TZOFFSETTO:+0200
TZNAME:CEST
DTSTART:20250330T010000
END:DAYLIGHT
BEGIN:STANDARD
TZOFFSETFROM:+0200
TZOFFSETTO:+0100
TZNAME:CET
DTSTART:20251026T010000
END:STANDARD
BEGIN:DAYLIGHT
TZOFFSETFROM:+0100
TZOFFSETTO:+0200
TZNAME:CEST
DTSTART:20260329T010000
END:DAYLIGHT
BEGIN:STANDARD
TZOFFSETFROM:+0200
TZOFFSETTO:+0100
TZNAME:CET
DTSTART:20261025T010000
END:STANDARD
BEGIN:DAYLIGHT
TZOFFSETFROM:+0100
TZOFFSETTO:+0200
TZNAME:CEST
DTSTART:20270328T010000
END:DAYLIGHT
BEGIN:STANDARD
TZOFFSETFROM:+0200
TZOFFSETTO:+0100
TZNAME:CET
DTSTART:20271031T010000
END:STANDARD
END:VTIMEZONE
BEGIN:VEVENT
DTSTART;TZID=Europe/Berlin:20261010T140000
DTEND;TZID=Europe/Berlin:20261010T210000
DTSTAMP:20260422T082553
CREATED:20251226T172258Z
LAST-MODIFIED:20251226T172300Z
UID:2604-1791640800-1791666000@www.sav-bonlanden.de
SUMMARY:Weinwanderung
DESCRIPTION:Genießen Sie eine erholsame Fahrt mit dem Bus oder öffentlichen Verkehrsmitteln zu einem malerischen Besen\, wo eine exquisite Weinverkostung auf Sie wartet. Um den Appetit anzuregen\, unternehmen wir zuvor eine Wanderung durch die herbstliche Landschaft. Lassen Sie sich von den bunten Blättern und der frischen Luft inspirieren.  \n\n\n\nBitte bringen Sie vor allem gute Laune mit\, um diesen Tag in vollen Zügen zu erleben. \n\n\n\nWanderführung: Eugen Hipp und Ursula Kaspar \n\n\n\nWeinwanderung 2025
URL:https://www.sav-bonlanden.de/veranstaltung/weinwanderung/
END:VEVENT
END:VCALENDAR