BEGIN:VCALENDAR
VERSION:2.0
PRODID:-//Schwäbischer Albverein - ECPv6.15.20//NONSGML v1.0//EN
CALSCALE:GREGORIAN
METHOD:PUBLISH
X-WR-CALNAME:Schwäbischer Albverein
X-ORIGINAL-URL:https://www.sav-bonlanden.de
X-WR-CALDESC:Veranstaltungen für Schwäbischer Albverein
REFRESH-INTERVAL;VALUE=DURATION:PT1H
X-Robots-Tag:noindex
X-PUBLISHED-TTL:PT1H
BEGIN:VTIMEZONE
TZID:Europe/Berlin
BEGIN:DAYLIGHT
TZOFFSETFROM:+0100
TZOFFSETTO:+0200
TZNAME:CEST
DTSTART:20250330T010000
END:DAYLIGHT
BEGIN:STANDARD
TZOFFSETFROM:+0200
TZOFFSETTO:+0100
TZNAME:CET
DTSTART:20251026T010000
END:STANDARD
BEGIN:DAYLIGHT
TZOFFSETFROM:+0100
TZOFFSETTO:+0200
TZNAME:CEST
DTSTART:20260329T010000
END:DAYLIGHT
BEGIN:STANDARD
TZOFFSETFROM:+0200
TZOFFSETTO:+0100
TZNAME:CET
DTSTART:20261025T010000
END:STANDARD
BEGIN:DAYLIGHT
TZOFFSETFROM:+0100
TZOFFSETTO:+0200
TZNAME:CEST
DTSTART:20270328T010000
END:DAYLIGHT
BEGIN:STANDARD
TZOFFSETFROM:+0200
TZOFFSETTO:+0100
TZNAME:CET
DTSTART:20271031T010000
END:STANDARD
END:VTIMEZONE
BEGIN:VEVENT
DTSTART;TZID=Europe/Berlin:20260918T070000
DTEND;TZID=Europe/Berlin:20260920T180000
DTSTAMP:20260422T064042
CREATED:20251228T154815Z
LAST-MODIFIED:20251228T160049Z
UID:2645-1789714800-1789927200@www.sav-bonlanden.de
SUMMARY:Himmelsstürmer-Tour 2026 „Montafon/Rätikon“
DESCRIPTION:Im Jahr 2026 führt uns die Himmelsstürmer-Tour zur Lindauer Hütte im Montafon/Rätikon. Unser Basislager bietet einen traumhaften Blick auf die dolomitenähnlichen Gipfel der Drei Türme – das Wahrzeichen des Montafon. Die moderne Berghütte überzeugt mit hohem Komfort\, köstlichem Kaiserschmarrn und einer Sauna auf 1744 m Höhe. Für die Junioren ist das Matratzenlager reserviert\, alle anderen HimmelsstürmerInnen übernachten in Mehrbettzimmern. \n\n\n\nFreitag\, 18.09.2026Gemeinsame Busfahrt nach Schruns\, anschließend Zustieg zur Hütte. Die Golmbahn kann zur Verkürzung des Weges genutzt werden und das Gepäck wird zur Hütte transportiert (optional). \n\n\n\n\n\n\n\nSamstag\, 19.09.2026Ob gemütliche Almwanderung\, aussichtsreiche Bergtour oder alpiner Klettersteig – für jede Generation gibt es die passende Option. Den Tag lassen wir gemeinsam bei einem geselligen Hüttenabend ausklingen. \n\n\n\n\n\n\n\n\n\n\n\nSonntag\, 20.09.2026Abstieg ins Tal\, optional mit Golmbahn und Gepäcktransport. Zum Abschluss gemeinsames Mittagessen in Schruns und Rückfahrt nach Bonlanden. \n\n\n\nKondition\, Trittsicherheit und Schwindelfreiheit erforderlich! Klettersteignur für Geübte mit persönlicher und aktueller Sicherheitsausrüstung. \n\n\n\nWanderführung: Jörg RichterMail: Himmelsstürmer@sav-bonlanden.deAnmeldung nur über die Albvereins-Webseite
URL:https://www.sav-bonlanden.de/veranstaltung/himmelsstuermer-tour-2026-montafon-raetikon/
END:VEVENT
END:VCALENDAR