BEGIN:VCALENDAR
VERSION:2.0
PRODID:-//Schwäbischer Albverein - ECPv6.15.20//NONSGML v1.0//EN
CALSCALE:GREGORIAN
METHOD:PUBLISH
X-WR-CALNAME:Schwäbischer Albverein
X-ORIGINAL-URL:https://www.sav-bonlanden.de
X-WR-CALDESC:Veranstaltungen für Schwäbischer Albverein
REFRESH-INTERVAL;VALUE=DURATION:PT1H
X-Robots-Tag:noindex
X-PUBLISHED-TTL:PT1H
BEGIN:VTIMEZONE
TZID:Europe/Berlin
BEGIN:DAYLIGHT
TZOFFSETFROM:+0100
TZOFFSETTO:+0200
TZNAME:CEST
DTSTART:20250330T010000
END:DAYLIGHT
BEGIN:STANDARD
TZOFFSETFROM:+0200
TZOFFSETTO:+0100
TZNAME:CET
DTSTART:20251026T010000
END:STANDARD
BEGIN:DAYLIGHT
TZOFFSETFROM:+0100
TZOFFSETTO:+0200
TZNAME:CEST
DTSTART:20260329T010000
END:DAYLIGHT
BEGIN:STANDARD
TZOFFSETFROM:+0200
TZOFFSETTO:+0100
TZNAME:CET
DTSTART:20261025T010000
END:STANDARD
BEGIN:DAYLIGHT
TZOFFSETFROM:+0100
TZOFFSETTO:+0200
TZNAME:CEST
DTSTART:20270328T010000
END:DAYLIGHT
BEGIN:STANDARD
TZOFFSETFROM:+0200
TZOFFSETTO:+0100
TZNAME:CET
DTSTART:20271031T010000
END:STANDARD
END:VTIMEZONE
BEGIN:VEVENT
DTSTART;TZID=Europe/Berlin:20260816T080000
DTEND;TZID=Europe/Berlin:20260816T170000
DTSTAMP:20260421T225640
CREATED:20251226T165853Z
LAST-MODIFIED:20251226T165928Z
UID:2588-1786867200-1786899600@www.sav-bonlanden.de
SUMMARY:D(T)raufgängertour - Grenzenlos wandern in Sonnenbühl
DESCRIPTION:Unsere Wanderung führt uns auf dem „Grenzgängerweg Sonnenbühl“ auf historischen Pfaden\, entlang alter Grenzsteine\, die einst Württemberg und Preußen trennten. Heute erleben wir dort nicht nur landschaftliche Vielfalt mit weiten Ausblicken über die Alb\, sondern auch spannende Geschichten über Grenzen\, die Menschen\, Religionen und Dialekte prägten. Der „Grenzgängerweg“ begeistert mit seiner abwechslungsreichen Kuppenlandschaft\, naturbelassenen Wegen und faszinierenden Einblicken in die Geschichte der Region– ein echtes Wander-Highlight! \n\n\n\nTreffpunkt: 8 Uhr Parkplatz Uhlberghalle Bonlanden. Wir fahren mitdem eigenen PKW. Mitfahrgelegenheiten vorhanden. \n\n\n\nWegstrecke: 23 kmDauer: ca. 7 Stunden (reine Gehzeit)Höhenmeter: 488 m ↥/488 m ↧Schwierigkeitsgrad: schwerRückkehr: ca. 17 Uhr \n\n\n\nAnspruchsvolle Tageswanderung – gute Kondition erforderlich.Rucksackvesper und Getränke mitbringen – es ist keine Einkehr vorgesehen. \n\n\n\nWanderführung: Dietmar Weinmann\,Tel.: 0711/773195\, Mail: d.weinmann@sav-bonlanden.de \n\n\n\nAnmeldung erforderlich \n\n\n\nD(T)raufgängertour 2025
URL:https://www.sav-bonlanden.de/veranstaltung/dtraufgaengertour-grenzenlos-wandern-in-sonnenbuehl/
END:VEVENT
BEGIN:VEVENT
DTSTART;TZID=Europe/Berlin:20260816T080000
DTEND;TZID=Europe/Berlin:20260816T190000
DTSTAMP:20260421T225640
CREATED:20260224T215056Z
LAST-MODIFIED:20260224T215057Z
UID:2851-1786867200-1786906800@www.sav-bonlanden.de
SUMMARY:Kelter geöffnet
DESCRIPTION:
URL:https://www.sav-bonlanden.de/veranstaltung/kelter-geoeffnet-22/
END:VEVENT
END:VCALENDAR