BEGIN:VCALENDAR
VERSION:2.0
PRODID:-//Schwäbischer Albverein - ECPv6.15.20//NONSGML v1.0//EN
CALSCALE:GREGORIAN
METHOD:PUBLISH
X-ORIGINAL-URL:https://www.sav-bonlanden.de
X-WR-CALDESC:Veranstaltungen für Schwäbischer Albverein
REFRESH-INTERVAL;VALUE=DURATION:PT1H
X-Robots-Tag:noindex
X-PUBLISHED-TTL:PT1H
BEGIN:VTIMEZONE
TZID:Europe/Berlin
BEGIN:DAYLIGHT
TZOFFSETFROM:+0100
TZOFFSETTO:+0200
TZNAME:CEST
DTSTART:20250330T010000
END:DAYLIGHT
BEGIN:STANDARD
TZOFFSETFROM:+0200
TZOFFSETTO:+0100
TZNAME:CET
DTSTART:20251026T010000
END:STANDARD
BEGIN:DAYLIGHT
TZOFFSETFROM:+0100
TZOFFSETTO:+0200
TZNAME:CEST
DTSTART:20260329T010000
END:DAYLIGHT
BEGIN:STANDARD
TZOFFSETFROM:+0200
TZOFFSETTO:+0100
TZNAME:CET
DTSTART:20261025T010000
END:STANDARD
BEGIN:DAYLIGHT
TZOFFSETFROM:+0100
TZOFFSETTO:+0200
TZNAME:CEST
DTSTART:20270328T010000
END:DAYLIGHT
BEGIN:STANDARD
TZOFFSETFROM:+0200
TZOFFSETTO:+0100
TZNAME:CET
DTSTART:20271031T010000
END:STANDARD
END:VTIMEZONE
BEGIN:VEVENT
DTSTART;TZID=Europe/Berlin:20260614T083000
DTEND;TZID=Europe/Berlin:20260614T170000
DTSTAMP:20260421T194601
CREATED:20251217T102550Z
LAST-MODIFIED:20251217T102551Z
UID:2464-1781425800-1781456400@www.sav-bonlanden.de
SUMMARY:Tageswanderung„Von Weidach zum Schlosspark Hohenheim“
DESCRIPTION:Die Wanderung führt entlang des südlichen Ortsrands von Plieningen ins Naturschutzgebiet „Weidach und Zettachwald“. Vorbei am Heidfeldbrünnele in Richtung Schutzhütte nach Hohenheim. Dort freuen wir uns bei hoffentlich schönem Wetter auf ein kühles Getränk im Biergarten des Gasthofs Garbe. Der Rückweg führt durchden Schlosspark ins Körschtal nach Plieningen. \n\n\n\nAnreise zum Startpunkt der Wanderung mit ÖPNVWegstrecke: 10 kmDauer: ca. 3 StundenHöhenmeter: 150 m ↥/150m ↧Schwierigkeitsgrad: leicht \n\n\n\nWanderführung: Marita BeckTel.: 0157/52268888Anmeldung erforderlich
URL:https://www.sav-bonlanden.de/veranstaltung/tageswanderungvon-weidach-zum-schlosspark-hohenheim/
END:VEVENT
END:VCALENDAR