BEGIN:VCALENDAR
VERSION:2.0
PRODID:-//Schwäbischer Albverein - ECPv6.15.20//NONSGML v1.0//EN
CALSCALE:GREGORIAN
METHOD:PUBLISH
X-ORIGINAL-URL:https://www.sav-bonlanden.de
X-WR-CALDESC:Veranstaltungen für Schwäbischer Albverein
REFRESH-INTERVAL;VALUE=DURATION:PT1H
X-Robots-Tag:noindex
X-PUBLISHED-TTL:PT1H
BEGIN:VTIMEZONE
TZID:Europe/Berlin
BEGIN:DAYLIGHT
TZOFFSETFROM:+0100
TZOFFSETTO:+0200
TZNAME:CEST
DTSTART:20250330T010000
END:DAYLIGHT
BEGIN:STANDARD
TZOFFSETFROM:+0200
TZOFFSETTO:+0100
TZNAME:CET
DTSTART:20251026T010000
END:STANDARD
BEGIN:DAYLIGHT
TZOFFSETFROM:+0100
TZOFFSETTO:+0200
TZNAME:CEST
DTSTART:20260329T010000
END:DAYLIGHT
BEGIN:STANDARD
TZOFFSETFROM:+0200
TZOFFSETTO:+0100
TZNAME:CET
DTSTART:20261025T010000
END:STANDARD
BEGIN:DAYLIGHT
TZOFFSETFROM:+0100
TZOFFSETTO:+0200
TZNAME:CEST
DTSTART:20270328T010000
END:DAYLIGHT
BEGIN:STANDARD
TZOFFSETFROM:+0200
TZOFFSETTO:+0100
TZNAME:CET
DTSTART:20271031T010000
END:STANDARD
END:VTIMEZONE
BEGIN:VEVENT
DTSTART;TZID=Europe/Berlin:20260507T140000
DTEND;TZID=Europe/Berlin:20260507T180000
DTSTAMP:20260421T191245
CREATED:20251217T101932Z
LAST-MODIFIED:20260125T073319Z
UID:2458-1778162400-1778176800@www.sav-bonlanden.de
SUMMARY:Senioren- und Freizeitgruppe – freier Keltertreff
DESCRIPTION:Organisation: Eberhard Bauer und Siegfried Heiß \n\n\n\nWir treffen uns in unserem Wanderheim Kelter zu einem zwanglosen\, gemütlichen Nachmittag mit vielen interessantenGesprächen. Wir freuen uns über neue Teilnehmer\, die sich gerne auch mit neuenWandervorschlägen und Ideen aktiv einbringen möchten. Kommen Sie einfach mal vorbei!
URL:https://www.sav-bonlanden.de/veranstaltung/senioren-und-freizeitgruppe-freier-keltertreff-13/
END:VEVENT
END:VCALENDAR