BEGIN:VCALENDAR
VERSION:2.0
PRODID:-//Schwäbischer Albverein - ECPv6.15.20//NONSGML v1.0//EN
CALSCALE:GREGORIAN
METHOD:PUBLISH
X-WR-CALNAME:Schwäbischer Albverein
X-ORIGINAL-URL:https://www.sav-bonlanden.de
X-WR-CALDESC:Veranstaltungen für Schwäbischer Albverein
REFRESH-INTERVAL;VALUE=DURATION:PT1H
X-Robots-Tag:noindex
X-PUBLISHED-TTL:PT1H
BEGIN:VTIMEZONE
TZID:Europe/Berlin
BEGIN:DAYLIGHT
TZOFFSETFROM:+0100
TZOFFSETTO:+0200
TZNAME:CEST
DTSTART:20250330T010000
END:DAYLIGHT
BEGIN:STANDARD
TZOFFSETFROM:+0200
TZOFFSETTO:+0100
TZNAME:CET
DTSTART:20251026T010000
END:STANDARD
BEGIN:DAYLIGHT
TZOFFSETFROM:+0100
TZOFFSETTO:+0200
TZNAME:CEST
DTSTART:20260329T010000
END:DAYLIGHT
BEGIN:STANDARD
TZOFFSETFROM:+0200
TZOFFSETTO:+0100
TZNAME:CET
DTSTART:20261025T010000
END:STANDARD
BEGIN:DAYLIGHT
TZOFFSETFROM:+0100
TZOFFSETTO:+0200
TZNAME:CEST
DTSTART:20270328T010000
END:DAYLIGHT
BEGIN:STANDARD
TZOFFSETFROM:+0200
TZOFFSETTO:+0100
TZNAME:CET
DTSTART:20271031T010000
END:STANDARD
END:VTIMEZONE
BEGIN:VEVENT
DTSTART;TZID=Europe/Berlin:20260501T100000
DTEND;TZID=Europe/Berlin:20260501T130000
DTSTAMP:20260421T155242
CREATED:20251217T101802Z
LAST-MODIFIED:20260330T081501Z
UID:2456-1777629600-1777640400@www.sav-bonlanden.de
SUMMARY:Halbtages-Wanderung in den Mai
DESCRIPTION:Familienfreundliche Wanderung. Wir wandern vom Parkplatz Uhlberghalle über das Reutewiesental hinauf nach Plattenhardt / Weilerhau. Dort über die ehemalige Hunderennbahn hinüber zum Uhlberg\, mit Abschluss an der Kelter\, die an diesem Tag bewirtschaftet ist. Die Wanderung endet dort. Der Rückweg von der Kelter zum Ausgangspunkt ca. 3 km muss von den Teilnehmern(innen) selbst bewältigt / organisiert werden.  \n\n\n\nkeine Anmeldung erforderlich – Gäste sind wie immer herzlich willkommen – Wegstrecke: ca. 7 kmDauer: 3 StundenSchwierigkeitsgrad: leicht (für Kinderwagen nur bedingt geeignet!)  \n\n\n\nWanderführung:Dietmar WeinmannTel.: 0711/773195 – E-Mail: d.weinmann@sav-bonlanden.de \n\n\n\nMaiwanderung 2025
URL:https://www.sav-bonlanden.de/veranstaltung/halbtages-wanderung-in-den-mai-2/
END:VEVENT
BEGIN:VEVENT
DTSTART;TZID=Europe/Berlin:20260501T110000
DTEND;TZID=Europe/Berlin:20260501T190000
DTSTAMP:20260421T155242
CREATED:20260421T064526Z
LAST-MODIFIED:20260421T064527Z
UID:2971-1777633200-1777662000@www.sav-bonlanden.de
SUMMARY:Kelter geöffnet - 1.Mai Hocketse
DESCRIPTION:
URL:https://www.sav-bonlanden.de/veranstaltung/kelter-geoeffnet-1-mai-hocketse/
END:VEVENT
END:VCALENDAR