BEGIN:VCALENDAR
VERSION:2.0
PRODID:-//Schwäbischer Albverein - ECPv6.15.20//NONSGML v1.0//EN
CALSCALE:GREGORIAN
METHOD:PUBLISH
X-WR-CALNAME:Schwäbischer Albverein
X-ORIGINAL-URL:https://www.sav-bonlanden.de
X-WR-CALDESC:Veranstaltungen für Schwäbischer Albverein
REFRESH-INTERVAL;VALUE=DURATION:PT1H
X-Robots-Tag:noindex
X-PUBLISHED-TTL:PT1H
BEGIN:VTIMEZONE
TZID:Europe/Berlin
BEGIN:DAYLIGHT
TZOFFSETFROM:+0100
TZOFFSETTO:+0200
TZNAME:CEST
DTSTART:20250330T010000
END:DAYLIGHT
BEGIN:STANDARD
TZOFFSETFROM:+0200
TZOFFSETTO:+0100
TZNAME:CET
DTSTART:20251026T010000
END:STANDARD
BEGIN:DAYLIGHT
TZOFFSETFROM:+0100
TZOFFSETTO:+0200
TZNAME:CEST
DTSTART:20260329T010000
END:DAYLIGHT
BEGIN:STANDARD
TZOFFSETFROM:+0200
TZOFFSETTO:+0100
TZNAME:CET
DTSTART:20261025T010000
END:STANDARD
BEGIN:DAYLIGHT
TZOFFSETFROM:+0100
TZOFFSETTO:+0200
TZNAME:CEST
DTSTART:20270328T010000
END:DAYLIGHT
BEGIN:STANDARD
TZOFFSETFROM:+0200
TZOFFSETTO:+0100
TZNAME:CET
DTSTART:20271031T010000
END:STANDARD
END:VTIMEZONE
BEGIN:VEVENT
DTSTART;TZID=Europe/Berlin:20260322T090000
DTEND;TZID=Europe/Berlin:20260322T170000
DTSTAMP:20260421T175958
CREATED:20251217T095956Z
LAST-MODIFIED:20260228T152713Z
UID:2440-1774170000-1774198800@www.sav-bonlanden.de
SUMMARY:Tages-Wanderung „Eninger Weide“
DESCRIPTION:Die Tagestour führt uns von Eningen/Achalm über die Hohe Warte\, vorbei am Gestütshof St. Johann\, durch die Höllenlöcher zum Aussichtspunkt Gelber Fels. Von dort hat man einen beeindruckenden Blick auf den Albtrauf und die Burgruine Hohenneuffen. Rucksackvesper für unterwegs mitnehmen. \n\n\n\nTreffpunkt: 9 Uhr Parkplatz UhlberghalleAnreise zum Startpunkt der Wanderung mit Privat-PKW \n\n\n\nWegstrecke: ca. 14 kmGehzeit: ca. 4 bis 5 Std.Höhenmeter: 326 hmSchwierigkeitsgrad: mittelschwer \n\n\n\nFestes Schuhwerk notwendig / Stöcke empfehlenswertAnmeldung bei : Helga und Wolfgang Richter (0711/774363) \n\n\n\nWanderung zum Brezelmarkt in Altenriet 2025
URL:https://www.sav-bonlanden.de/veranstaltung/tages-wanderung-eninger-weide/
END:VEVENT
BEGIN:VEVENT
DTSTART;TZID=Europe/Berlin:20260322T100000
DTEND;TZID=Europe/Berlin:20260322T170000
DTSTAMP:20260421T175958
CREATED:20251224T112422Z
LAST-MODIFIED:20251224T112423Z
UID:2523-1774173600-1774198800@www.sav-bonlanden.de
SUMMARY:Kelter geöffnet
DESCRIPTION:
URL:https://www.sav-bonlanden.de/veranstaltung/kelter-geoeffnet-20/
END:VEVENT
END:VCALENDAR