BEGIN:VCALENDAR
VERSION:2.0
PRODID:-//Schwäbischer Albverein - ECPv6.15.20//NONSGML v1.0//EN
CALSCALE:GREGORIAN
METHOD:PUBLISH
X-ORIGINAL-URL:https://www.sav-bonlanden.de
X-WR-CALDESC:Veranstaltungen für Schwäbischer Albverein
REFRESH-INTERVAL;VALUE=DURATION:PT1H
X-Robots-Tag:noindex
X-PUBLISHED-TTL:PT1H
BEGIN:VTIMEZONE
TZID:Europe/Berlin
BEGIN:DAYLIGHT
TZOFFSETFROM:+0100
TZOFFSETTO:+0200
TZNAME:CEST
DTSTART:20240331T010000
END:DAYLIGHT
BEGIN:STANDARD
TZOFFSETFROM:+0200
TZOFFSETTO:+0100
TZNAME:CET
DTSTART:20241027T010000
END:STANDARD
BEGIN:DAYLIGHT
TZOFFSETFROM:+0100
TZOFFSETTO:+0200
TZNAME:CEST
DTSTART:20250330T010000
END:DAYLIGHT
BEGIN:STANDARD
TZOFFSETFROM:+0200
TZOFFSETTO:+0100
TZNAME:CET
DTSTART:20251026T010000
END:STANDARD
BEGIN:DAYLIGHT
TZOFFSETFROM:+0100
TZOFFSETTO:+0200
TZNAME:CEST
DTSTART:20260329T010000
END:DAYLIGHT
BEGIN:STANDARD
TZOFFSETFROM:+0200
TZOFFSETTO:+0100
TZNAME:CET
DTSTART:20261025T010000
END:STANDARD
END:VTIMEZONE
BEGIN:VEVENT
DTSTART;TZID=Europe/Berlin:20251220T140000
DTEND;TZID=Europe/Berlin:20251220T200000
DTSTAMP:20260421T230021
CREATED:20241229T115053Z
LAST-MODIFIED:20251129T134212Z
UID:965-1766239200-1766260800@www.sav-bonlanden.de
SUMMARY:Winterdörfle und Wintersonnwende!
DESCRIPTION:Beginn am 20.12.2025 ab 14 Uhr \n\n\n\n🎄 Winterdörfle – Weihnachtszauber & Wintersonnenwende 🎅🔥Am Samstag und Sonntag\, den 20. + 21. Dezember\, laden wir euch herzlich zu unserem stimmungsvollen Winterdörle ein!An beiden Tagen verwandelt sich unser Gelände in ein kleines\, gemütliches Winterdorf voller Lichterglanz\, Tannenduft und festlicher Atmosphäre.🌟 Was euch erwartet:✨ An beiden Tagen: Liebevoll selbst gebastelte Weihnachtsdekorationen – ideal zum Stöbern\, Staunen und Verschenken. Der Erlös geht in unsere Vereinsarbeit vom Albverein.🎅 Am Samstag um 15:00 Uhr kommt der Nikolaus und bringt kleine Überraschungen für unsere jüngsten Gäste und es gibt eine Tombola. Der Erlös geht an den Förderverein für krebskranke Kinder e.V. in Tübingen. \n\n\n\n🔥 Am Samstag Abend entzünden wir nach Einbruch der Dunkelheit gemeinsam das Wintersonnenwendfeuer – ein wärmendes Symbol für Licht\, Gemeinschaft und den Beginn der helleren Tage.Für das leibliche Wohl ist natürlich auch gesorgt: Genießt heißen Punsch\, Glühwein\, duftende Waffeln und herzhafte Leckereien in geselliger Runde.Kommt vorbei\, bringt Familie und Freunde mit und erlebt einen gemütlichen Nachmittag und Abend voller Vorfreude auf Weihnachten!Wir freuen uns auf euch beim Winterdörfle 2025 ❄️🎶
URL:https://www.sav-bonlanden.de/veranstaltung/winterdorf-und-wintersonnwende/
END:VEVENT
BEGIN:VEVENT
DTSTART;TZID=Europe/Berlin:20251220T160000
DTEND;TZID=Europe/Berlin:20251220T170000
DTSTAMP:20260421T230021
CREATED:20251129T134048Z
LAST-MODIFIED:20251129T134128Z
UID:2284-1766246400-1766250000@www.sav-bonlanden.de
SUMMARY:Jahresabschluss-wanderung zum Winterdörfle an der Kelter
DESCRIPTION:Die Wanderführer Peter und Dieter Vogel laden ein zur Abschlusswanderung des Wanderjahres 2025 am Vorabend des Vierten Advents durch die vorweihnachtliche Winterlandschaft. Auch für Familien und Senioren geeignet. \n\n\n\nTreffpunkt Parkplatz Uhlberghalle Bonlanden\, Mahlestraße. Die leichte Wanderung beginnt um 16.00 Uhr und führt uns durch den Museumsobstgarten\, über Schlesien- und Roggenstraße zum Naturdenkmal Wacholderheide Haberschlai. Durch das Waldstück Schneiderspitz\, über den Mahdenwiesenweg\, vorbei am Schützenhaus\, erreichen wir nach rund einer Stunde Gehzeit das Vereinsheim Kelter. \n\n\n\nWir empfehlen festes Schuhwerk\, ggf. Wanderstöcke und der Jahreszeit sowie der Witterung angepasste Kleidung. \n\n\n\nAnkunft Vereinsheim Kelter ca. 17:00 Uhr. Dort erwartet sie ein weihnachtlich geschmücktes kleines Winterdörfle mit Punsch\, Glühwein\, Gegrilltem und vielem mehr. Lassen sie sich überraschen. Das Feuer in der Grillstelle deutet auf die Wintersonnenwende am 21. Dezember hin. Die Kelter ist ebenfalls geöffnet. \n\n\n\nAnmeldung bei Peter\, Tel. 0172-5287628\, E-Mail: peter.vogel19@freenet.de oder bei Dieter\, Tel. 0176-55564103\, E-Mail:  dieter1.vogel@kabelbw.de \n\n\n\nDer Rückweg erfolgt eigenständig bis Parkplatz Uhlberghalle in ca. 15 Minuten zu Fuß\, oder per PKW/Fahrgemeinschaften.
URL:https://www.sav-bonlanden.de/veranstaltung/jahresabschlusswanderung-zum-winterdoerfle-an-der-kelter/
END:VEVENT
END:VCALENDAR